BEGIN:VCALENDAR
VERSION:2.0
CALSCALE:GREGORIAN
PRODID:-//MyApp//Calendar 1.0//EN
BEGIN:VEVENT
METHOD:PUBLISH
UID:43869@regionalniportaly.cz
DTSTAMP:20260420T155742Z
DTSTART;VALUE=DATE:20240823
DTEND;VALUE=DATE:20240824
SUMMARY:Adéla Elbel: První poločas rozpadu
DESCRIPTION:ADÉLA ELBEL: PRVNÍ POLOČAS ROZPADUStand-up your lifeKomička Adéla Elbel žije život\, jak nejlíp dokáže. Ale protože to občas zas tak dobře nedokáže\, dala vzniknout svému speciálu „Stand up your life: první poločas rozpadu”\, ve kterém mluví o tom nejpodstatnějším – tedy sama o sobě.Přijďte se přesvědčit\, jak dokáže být zábavná\, stejně jako nesmlouvavě kritická a díky své lásce k proseccu taky někdy fajn…Tuhle one woman show nechcete propásnout!Adéla Elbel je stand-up komička a moderátorka\, pravidelně vystupuje s pořadem Na stojáka a v televizním pořadu Comedy club. Zabývá se životem v popkulturním odkazu s přesahem do filosofie citátů moudrých lidí.https://www.adelaelbel.cz/Hrají: Adéla ElbelAutor: Adéla Elbel\, Režie: Adéla ElbelŽánr: zábavný pořad\, Délka: 90 min.
LOCATION:Okoř
END:VEVENT
END:VCALENDAR