BEGIN:VCALENDAR
VERSION:2.0
CALSCALE:GREGORIAN
PRODID:-//MyApp//Calendar 1.0//EN
BEGIN:VEVENT
METHOD:PUBLISH
UID:43874@regionalniportaly.cz
DTSTAMP:20260420T175422Z
DTSTART;VALUE=DATE:20240824
DTEND;VALUE=DATE:20240825
SUMMARY:Oldies Párty s kapelou 4.CENOVÁ
DESCRIPTION:Oldies Párty &nbsp\;kapelou 4.CENOVÁ z Chomutova. Hudební pecky v podání nejlepší kapely ze severu. Začínáme v 17 hodin a pařit budeme do 22 hodin.&nbsp\;Bony\, vole\,&nbsp\;chceš bony? Pro všechny Evičky vstup ZDARMA)))))Panák zeléné Božkov za 20\,-KčMagické OKO za 40\,-KčPanák rumu Božkov za 20\,-KčTlačenka s cibulí a octem - Utopenec - Gothaj s cibulí a octem - vajíčkový chlebíček&nbsp\;
LOCATION:Okoř
END:VEVENT
END:VCALENDAR