BEGIN:VCALENDAR
VERSION:2.0
CALSCALE:GREGORIAN
PRODID:-//MyApp//Calendar 1.0//EN
BEGIN:VEVENT
METHOD:PUBLISH
UID:44378@regionalniportaly.cz
DTSTAMP:20260420T175557Z
DTSTART;VALUE=DATE:20240817
DTEND;VALUE=DATE:20240818
SUMMARY:Fernet Pátry s kapelou  Fernetový opar
DESCRIPTION:Fernetová Párty &nbsp\;kapelou Fernetový Opar z Číčovic. Začínáme v 17 hodin a pařit budeme do 22 hodin.&nbsp\;Gril párty - Panák Fernetu za 30\,-Kč -&nbsp\;&nbsp\;Bavorák za 40\,-Kč
LOCATION:Okoř
END:VEVENT
END:VCALENDAR