BEGIN:VCALENDAR
VERSION:2.0
CALSCALE:GREGORIAN
PRODID:-//MyApp//Calendar 1.0//EN
BEGIN:VEVENT
METHOD:PUBLISH
UID:44427@regionalniportaly.cz
DTSTAMP:20260420T212630Z
DTSTART;VALUE=DATE:20241004
DTEND;VALUE=DATE:20241005
SUMMARY:Taxmeni – Nové struny – Bill Barrett & Brad Lewis
DESCRIPTION:Taxmeni&nbsp\;jsou česká hudební skupina hrající v moderním country &amp\; western stylu. Mezi příznivci tohoto hudebního žánru jsou známi jakožto čeští tvůrci tzv. military country\, tedy specifické stylové oblasti country zaměřené především na vojenské a armádní prostředíNové struny&nbsp\;fungují od roku 2013 a po celou dobu své existence se pohybuje na pomezí swingu a trampské písně. Vedle osvědčených kusů zmiňovaných žánrů se zabývá i interpretací dávno zašlých skladeb\, které by jinak zřejmě zmizely v propadlišti dějin.Bill Barrett &amp\; Brad Lewis&nbsp\;je hvězdné duo z&nbsp\;L.A. Bill je špičkový světový hráč na foukací harmoniku a výborný zpěvák\, Brad kytarista a zpěvák původem z&nbsp\;kanadského Toronta.
LOCATION:Beroun
END:VEVENT
END:VCALENDAR