BEGIN:VCALENDAR
VERSION:2.0
CALSCALE:GREGORIAN
PRODID:-//MyApp//Calendar 1.0//EN
BEGIN:VEVENT
METHOD:PUBLISH
UID:44607@regionalniportaly.cz
DTSTAMP:20260420T195015Z
DTSTART;VALUE=DATE:20241110
DTEND;VALUE=DATE:20241111
SUMMARY:Tlapky v Berouně | Pohádková party pro děti
DESCRIPTION:TLAPKY vyráží na cestu kolem světa\, projedou přes 50 měst a zamíří i do BEROUNA!Dětská diskotéka plná tance\, bublinek a pohádkových kamarádů! Tento den bude patřit Všem dětemČeká Vás taneční program\, hudba z pohádek a celá tlapková parta.&nbsp\;PRO DĚTI:Diskotéka s bublinkamiOblíbené pohádkové postavičkyFotoautogramiáda s maskoty&nbsp\;Extra stánky:Malování na obličej&nbsp\;Stánek s balónky a sladkými dobrotami&nbsp\;&nbsp\;Fotokoutek s tiskem&nbsp\;PROGRAM:14:00 Otevření prostoru\, 14:45 Hlavní program\, 15:45 Fotoautogamiáda\,&nbsp\; &nbsp\; &nbsp\; &nbsp\; &nbsp\; &nbsp\; &nbsp\; 16:15 Konec&nbsp\;Děti do 2 let (tzv. do 24 měsíců) zdarma bez vstupenky\, každý jiný návštěvník musí mít platnou vstupenku\, cena vstupenek je shodná pro děti i dospělé.Těšíme se na Vás\, Vaše TLAPKY!
LOCATION:Beroun
END:VEVENT
END:VCALENDAR