BEGIN:VCALENDAR
VERSION:2.0
CALSCALE:GREGORIAN
PRODID:-//MyApp//Calendar 1.0//EN
BEGIN:VEVENT
METHOD:PUBLISH
UID:44749@regionalniportaly.cz
DTSTAMP:20260420T175441Z
DTSTART;VALUE=DATE:20240824
DTEND;VALUE=DATE:20240825
SUMMARY:Společný oběd / oslava 100. výročí křivoklátské sokolovny
DESCRIPTION:V hotelu Sýkora na Křivoklátě byla dne 13. října 1907 založena&nbsp\;jednota Sokol Křivoklát a byly schváleny její první stanovy. Jednota byla zařazena do župy Jungmannovy. Prvním starostou byl zvolen místní notář Hypolit Fastr. Pojďme se vrátit k tomu momentu společným obědem u příležitosti 100. výročí otevření křivoklátské sokolovny.
LOCATION:Křivoklát
END:VEVENT
END:VCALENDAR