BEGIN:VCALENDAR
VERSION:2.0
CALSCALE:GREGORIAN
PRODID:-//MyApp//Calendar 1.0//EN
BEGIN:VEVENT
METHOD:PUBLISH
UID:44895@regionalniportaly.cz
DTSTAMP:20260420T193421Z
DTSTART;VALUE=DATE:20241102
DTEND;VALUE=DATE:20241103
SUMMARY:Zážitkovým motoráčkem do Bohemia Sektu
DESCRIPTION:Jízda zážitkového motoráčku z Kralup nad Vltavou přes Prahu a Beroun do Starého Plzence na exkurzi a skleničku do Bohemia Sektu. Nahlédněte do tajů výroby českých bublinek.\n\nNávštěva výrobního závodu Bohemia Sekt s výkladem a degustací.\nDegustace 5 druhů sektů s délkou cca 2 hodiny.\nPohodlný odvoz po skončení zábavy a konzumace zpět.\n
LOCATION:Beroun
END:VEVENT
END:VCALENDAR