BEGIN:VCALENDAR
VERSION:2.0
CALSCALE:GREGORIAN
PRODID:-//MyApp//Calendar 1.0//EN
BEGIN:VEVENT
METHOD:PUBLISH
UID:44902@regionalniportaly.cz
DTSTAMP:20260420T175325Z
DTSTART;VALUE=DATE:20240809
DTEND;VALUE=DATE:20240810
SUMMARY:Totální nasazení\, Znouzectnost a další v Pavlíkově
DESCRIPTION:Pohodová akce s kapelami\,které reprezentují každá jinou odnož punk- rockové muziky. Těšit se můžete na:Totální nasazení - punk-rock-ska - SLANÝZnouzectnost - folk-rock-punk - PLZEŇPeshata - ska-punk - TÁBORCovers for Lovers - rock - pop - punk - PRAHAM3ta - pop punk - TŘEBÍZ
LOCATION:Pavlíkov
END:VEVENT
END:VCALENDAR