BEGIN:VCALENDAR
VERSION:2.0
CALSCALE:GREGORIAN
PRODID:-//MyApp//Calendar 1.0//EN
BEGIN:VEVENT
METHOD:PUBLISH
UID:45033@regionalniportaly.cz
DTSTAMP:20260420T231926Z
DTSTART;VALUE=DATE:20240903
DTEND;VALUE=DATE:20240904
SUMMARY:Open Air Dasha - koncert v letním kině Beroun
DESCRIPTION:Dasha. Pajky Pajk Quintet. Epoque Quartet. \n \nKdy: 3. 9. 2024 v 18:30\nKde: Letní kino Beroun\n \nPo úspěšném koncertu 4 Tenorů v minulém roce se opět můžete těšit na open air koncert do Letního kina Beroun. Tentokrát se představí Dasha za doprovodu Pajky Pajk Quintetu Martina Kumžáka a Epoque Quartetu dobře známých z oblíbeného pořadu StarDance\, když hvězdy ...
LOCATION:Beroun
END:VEVENT
END:VCALENDAR