BEGIN:VCALENDAR
VERSION:2.0
CALSCALE:GREGORIAN
PRODID:-//MyApp//Calendar 1.0//EN
BEGIN:VEVENT
METHOD:PUBLISH
UID:45241@regionalniportaly.cz
DTSTAMP:20260420T212813Z
DTSTART;VALUE=DATE:20241201
DTEND;VALUE=DATE:20241202
SUMMARY:VÁNOČNÍ LOUPEŽ I Beroun
DESCRIPTION:VÁNOČNÍ LOUPĚŽ&nbsp\;Rodinný zábavný muzikál.Objevte kouzlo klasického vánočního příběhu\, který ožívá na jevišti.Zelený bručoun se možná pokusí překazit sváteční atmosféru svým krkáním\, pšoukáním a brbláním\, dokonce ukradne i všechny vánoční dárky!!Ale to určitě není nic\, s čím by si malí návštěvníci tohoto rodinného muzikálu nemohli poradit. Pomohou ostatním obyvatelům kouzelné vesničky Kdovíkde zachránit Vánoce a svou láskou rozehřát Grinčovo chladné srdce?Přijďte a oslavte Vánoce tím\, že se stanete součástí tohoto svátečního dobrodružství plného zpěvu\, tance a emocí.Na motivy knižní předlohy.&nbsp\; &nbsp\; &nbsp\; &nbsp\; &nbsp\; &nbsp\; &nbsp\; &nbsp\; &nbsp\; &nbsp\; &nbsp\; &nbsp\; &nbsp\; &nbsp\; &nbsp\; &nbsp\; &nbsp\; &nbsp\;P.S.:uŠ JSem TADi UŽ JSem TU!VÁnOCE JÁ nesNESU!KRK\, PRD TRA La LaUŽ ŽÁDNÁÁÁ VELKÁ ZÁBAVA!&nbsp\; &nbsp\; &nbsp\; &nbsp\; &nbsp\; &nbsp\; &nbsp\; &nbsp\; &nbsp\; &nbsp\; &nbsp\; &nbsp\; &nbsp\; &nbsp\; &nbsp\; &nbsp\; &nbsp\; &nbsp\; &nbsp\; &nbsp\; &nbsp\; &nbsp\; &nbsp\; &nbsp\; &nbsp\; &nbsp\;GRINŠ.&nbsp\;Délka představení 50 minut.Na konci představení focení s hlavními postavami.Vhodné pro děti od 2 let.Poprvé v ČR!
LOCATION:Beroun
END:VEVENT
END:VCALENDAR