BEGIN:VCALENDAR
VERSION:2.0
CALSCALE:GREGORIAN
PRODID:-//MyApp//Calendar 1.0//EN
BEGIN:VEVENT
METHOD:PUBLISH
UID:45659@regionalniportaly.cz
DTSTAMP:20260420T193244Z
DTSTART;VALUE=DATE:20241005
DTEND;VALUE=DATE:20241006
SUMMARY:Cirkusácká pohádka
DESCRIPTION:Obec Hradištko a divadelní soubor LáryFáry působící mimojiné i v komorním divadle Kalich uvádí Cirkusáckou pohádkuPohádka plná humoru a písniček! Ovšem pozor\, tentokrát z bláznivého cirkusového prostředí. Pojďte s námi zjistit\, že vše co se na první pohled leskne a třpytí\, může být ve skutečnosti úplně jinačí.Za oponou Cirkusu Francesco totiž panují podivné poměry. Tvrdou rukou tu vládne principál Francesco a jeho žena Dulcinela. Proč utekli lvi? Proč se hadí žena urazila? Proč už tady neskáčou opice? To vše společně s dětmi zjistí a možná i napraví cestovatelka Betty\, která si čirou náhodou koupí lístek právě do tohoto cirkusu.Pohádka je určená pro děti předškolního věku (od čtyř let) a děti základních škol (1.-4.tř.).UPOZORNĚNÍ: Místa v předních řadách budou určena pouze dětem\, aby všechny děti na představení dobře vidělyPRODEJ VSTUPENEK na místě bude možný jen v případě\, že budou volná místa - sledujte proto prosím facebookové stránky Hradištský zpravodaj\, kde bude den předem upřesněno\, zda bude možné dorazit i bez zakoupené vstupenky předem. 
LOCATION:Hradištko
END:VEVENT
END:VCALENDAR