BEGIN:VCALENDAR
VERSION:2.0
CALSCALE:GREGORIAN
PRODID:-//MyApp//Calendar 1.0//EN
BEGIN:VEVENT
METHOD:PUBLISH
UID:45851@regionalniportaly.cz
DTSTAMP:20260420T193514Z
DTSTART;VALUE=DATE:20241015
DTEND;VALUE=DATE:20241016
SUMMARY:Dáša Zázvůrková – Čím dál tím víc…
DESCRIPTION:Projekt Čím dál tím víc cítím jako poctu nejznámější české šansonierce Haně Hegerové. Měla jsem tu čest se s paní Hegerovou osobně setkat a dostala jsem požehnání šířit její repertoár. Je pro mě velmi důležité mít v písních příběh a nebát se emocí. A to přesně v těchto šansonech je. Se svými hudebníky se snažíme toto poselství předat..Projekt doplňuji několika písněmi z autorské tvorby.Dáša Zázvůrková - zpěv\, Vladimír Strnad - piano\, Rudolf Musil- saxofon a klarinet\, František Raba- kontrabas
LOCATION:Beroun
END:VEVENT
END:VCALENDAR