BEGIN:VCALENDAR
VERSION:2.0
CALSCALE:GREGORIAN
PRODID:-//MyApp//Calendar 1.0//EN
BEGIN:VEVENT
METHOD:PUBLISH
UID:45852@regionalniportaly.cz
DTSTAMP:20260420T212804Z
DTSTART;VALUE=DATE:20241105
DTEND;VALUE=DATE:20241106
SUMMARY:Hypnotizér
DESCRIPTION:Hypnotizér a mentalista Jakub KroulíkDoporučujeme všem\, kteří chtějí zažít něco fascinujícího.&nbsp\;&nbsp\;Hned od počátku večera ucítíte příjemnou atmosféru.Přednášející si Vás okamžitě získá svým příjemným projevem a zajímavými informacemi z historie i současné praxe v sugesci a hypnóze.Následnými ukázkami hypnózy na několika dobrovolnících Vám bude názorně předvedeno\, jak změněný stav vědomí vypadá a jakými způsoby ho lze navodit. Osoby na jevišti na povel hypnotizéra usínají\, klepou se zimou\, zapomenou své jméno...Pocity\, které zúčastnění\, nejenom na jevišti\, ale i v hledišti\, sdílejí\, jsou fascinující. Kromě výjimečného zážitku si všichni odnášejí především uvolnění\, klid a vnitřní pohodu. Příjemnou energii pak mnozí pociťují ještě několik dní poté.
LOCATION:Beroun
END:VEVENT
END:VCALENDAR