BEGIN:VCALENDAR
VERSION:2.0
CALSCALE:GREGORIAN
PRODID:-//MyApp//Calendar 1.0//EN
BEGIN:VEVENT
METHOD:PUBLISH
UID:46163@regionalniportaly.cz
DTSTAMP:20260420T193614Z
DTSTART;VALUE=DATE:20241004
DTEND;VALUE=DATE:20241005
SUMMARY:Spánek a sny Tichého jelena - Petr Váša
DESCRIPTION:14. ročník divadelního festivalu Tichý Jelen\, tentokrát s podtitulem Spánek a sny Tichého jelena se odehraje v pátek a sobotu 4. a 5. října v Roztokách. Těch u Prahy.&nbsp\;Pátek 4. října19:00&nbsp\;Petr Váša&nbsp\;(PlechOn\, pro dospělé)Fyzický básník\, hudebník\, performer\, výtvarník a&nbsp\;vášnivý výzkumník snů na&nbsp\;scéně.Vstupné 200 Kč&nbsp\;
LOCATION:Roztoky
END:VEVENT
END:VCALENDAR