BEGIN:VCALENDAR
VERSION:2.0
CALSCALE:GREGORIAN
PRODID:-//MyApp//Calendar 1.0//EN
BEGIN:VEVENT
METHOD:PUBLISH
UID:46164@regionalniportaly.cz
DTSTAMP:20260420T175404Z
DTSTART;VALUE=DATE:20241005
DTEND;VALUE=DATE:20241006
SUMMARY:Spánek a sny Tichého jelena - Houpací pohádky
DESCRIPTION:14. ročník divadelního festivalu Tichý Jelen\, tentokrát s podtitulem Spánek a sny Tichého jelena se odehraje v pátek a sobotu 4. a 5. října v Roztokách. Těch u Prahy.&nbsp\;5. října od 13:00 Houpací pohádky&nbsp\;– Studio Damúza\, představení pro dětiLet malého velblouďátka noční oblohou na&nbsp\;rožku měsíce. Pohádka na&nbsp\;motivy pohádek ze stejnojmenné knihy Aloise Mikulky.
LOCATION:Roztoky
END:VEVENT
END:VCALENDAR