BEGIN:VCALENDAR
VERSION:2.0
CALSCALE:GREGORIAN
PRODID:-//MyApp//Calendar 1.0//EN
BEGIN:VEVENT
METHOD:PUBLISH
UID:46165@regionalniportaly.cz
DTSTAMP:20260420T193342Z
DTSTART;VALUE=DATE:20241005
DTEND;VALUE=DATE:20241006
SUMMARY:Spánek a sny Tichého jelena - Snové lázně
DESCRIPTION:14. ročník divadelního festivalu Tichý Jelen\, tentokrát s podtitulem Spánek a sny Tichého jelena se odehraje v pátek a sobotu 4. a 5. října v Roztokách. Těch u Prahy.&nbsp\;5. října od 22:00 22:00 – 8:00&nbsp\;Snové lázně&nbsp\;(Pro dospělé\, Haurowitzova vila)Unikátní hudební performance\, u které můžete klidně spát a bude se vám něco krásného zdát. Snídaně v ceně!Vstupné 300 Kč&nbsp\;
LOCATION:Roztoky
END:VEVENT
END:VCALENDAR