BEGIN:VCALENDAR
VERSION:2.0
CALSCALE:GREGORIAN
PRODID:-//MyApp//Calendar 1.0//EN
BEGIN:VEVENT
METHOD:PUBLISH
UID:46166@regionalniportaly.cz
DTSTAMP:20260420T215332Z
DTSTART;VALUE=DATE:20241005
DTEND;VALUE=DATE:20241006
SUMMARY:Spánek a sny Tichého jelena - Spící království
DESCRIPTION:14. ročník divadelního festivalu Tichý Jelen\, tentokrát s podtitulem Spánek a sny Tichého jelena se odehraje v pátek a sobotu 4. a 5. října v Roztokách. Těch u Prahy.&nbsp\;5. října od 14:30 Spící království&nbsp\;- Spielraum Kollektiv&nbsp\;(představení pro děti)Všichni usnuli a&nbsp\;co my teď? Pohádka na&nbsp\;motivy Šípkové RůženkyVstupné 100 Kč&nbsp\;
LOCATION:Roztoky
END:VEVENT
END:VCALENDAR