BEGIN:VCALENDAR
VERSION:2.0
CALSCALE:GREGORIAN
PRODID:-//MyApp//Calendar 1.0//EN
BEGIN:VEVENT
METHOD:PUBLISH
UID:46167@regionalniportaly.cz
DTSTAMP:20260420T175450Z
DTSTART;VALUE=DATE:20241005
DTEND;VALUE=DATE:20241006
SUMMARY:Spánek a sny Tichého jelena - Sólo Matches
DESCRIPTION:14. ročník divadelního festivalu Tichý Jelen\, tentokrát s podtitulem Spánek a sny Tichého jelena se odehraje v pátek a sobotu 4. a 5. října v Roztokách. Těch u Prahy.&nbsp\;5. října od 19:00 Sólo Matches&nbsp\;- Studio Damúza&nbsp\;(pro dospělé\, starší děti\, PlechOn)Autorské představení Zuzany Vítkové inspirované světem starých zápalek\, H. Ch. Andersenem a&nbsp\;sny\, které přicházejí a&nbsp\;odcházejí.Vstupné 200 Kč dospělý / 100 Kč dítě do 14 let&nbsp\;
LOCATION:Roztoky
END:VEVENT
END:VCALENDAR