BEGIN:VCALENDAR
VERSION:2.0
CALSCALE:GREGORIAN
PRODID:-//MyApp//Calendar 1.0//EN
BEGIN:VEVENT
METHOD:PUBLISH
UID:46345@regionalniportaly.cz
DTSTAMP:20260420T175500Z
DTSTART;VALUE=DATE:20241025
DTEND;VALUE=DATE:20241026
SUMMARY:Vtípečky na Růžku // stand-up show
DESCRIPTION:Vtípečky se zelím přináší ty nejvypečenější komiky nové generace. Pěticevystupujících vám naservíruje to nejčerstvější\, co napekli za poslední dobu. 😱Své vtipy jako na podnose přinesou:Jiří Štraub 🤟Pavel Wünsch 🧓Jan Jícha 👨‍🏫Anna Bednářová 💋Zdeněk Hruška 👨‍🦽Těšíme se na vás 🙏Komediální skupinu Vtípečky se zelím založili v roce 2022 Ondřej Cabal a Aleš Pitrmoc. Jejím cílem je shromažďovat začínající komiky a kolektivně rozvíjet řemeslo stand upu. V tom jim pomáhají také známí a zkušení komici Jiří Jakima a Tigran Hovakimyan.
LOCATION:Nové Strašecí
END:VEVENT
END:VCALENDAR