BEGIN:VCALENDAR
VERSION:2.0
CALSCALE:GREGORIAN
PRODID:-//MyApp//Calendar 1.0//EN
BEGIN:VEVENT
METHOD:PUBLISH
UID:46364@regionalniportaly.cz
DTSTAMP:20260420T232323Z
DTSTART;VALUE=DATE:20241108
DTEND;VALUE=DATE:20241109
SUMMARY:Jan Spálený & ASPM
DESCRIPTION:Původně folk-bluesové trio léty dospělo a koncem minulého tisíciletí vyzrálo do podoby crossoverového kvintetu. ASPM (Amatérské sdružení profesionálních muzikantů) se pohybuje virtuózně na pomezí žánrů blues\, jazz\, gumbo\, folk a jejich vzájemným dotýkáním si vytváří vlastní nezaměnitelné výrazivo. Hřídelí ASPM je Jan Spálený – muzikant – vypravěč\, který je autorem většiny písní\, zpěvákem i hráčem na kornet a piano. Každý další člen ASPM je svébytnou osobností\, jejíž význam přesahuje nejen ASPM\, ale i příslušný hudební klokot v této zemi
LOCATION:Davle
END:VEVENT
END:VCALENDAR