BEGIN:VCALENDAR
VERSION:2.0
CALSCALE:GREGORIAN
PRODID:-//MyApp//Calendar 1.0//EN
BEGIN:VEVENT
METHOD:PUBLISH
UID:46431@regionalniportaly.cz
DTSTAMP:20260420T212950Z
DTSTART;VALUE=DATE:20241114
DTEND;VALUE=DATE:20241115
SUMMARY:Robert Křesťan a Druhá tráva
DESCRIPTION:Vychutnejte si koncert legendy folk\, country a bluegrassové scény.Druhá tráva - přední česká kapela\, která se během let odchýlila od původního moderního bluegrassu k nadžánrovému výrazu a řadí se mezi špičku na české scéně.
LOCATION:Beroun
END:VEVENT
END:VCALENDAR