BEGIN:VCALENDAR
VERSION:2.0
CALSCALE:GREGORIAN
PRODID:-//MyApp//Calendar 1.0//EN
BEGIN:VEVENT
METHOD:PUBLISH
UID:46433@regionalniportaly.cz
DTSTAMP:20260420T162222Z
DTSTART;VALUE=DATE:20250423
DTEND;VALUE=DATE:20250424
SUMMARY:Jaroslav SAMSON Lenk
DESCRIPTION:
LOCATION:Beroun
END:VEVENT
END:VCALENDAR