BEGIN:VCALENDAR
VERSION:2.0
CALSCALE:GREGORIAN
PRODID:-//MyApp//Calendar 1.0//EN
BEGIN:VEVENT
METHOD:PUBLISH
UID:46463@regionalniportaly.cz
DTSTAMP:20260420T193443Z
DTSTART;VALUE=DATE:20241009
DTEND;VALUE=DATE:20241010
SUMMARY:Kupředu do minulosti Lety u Dobřichovic - Jahelka\, Kociánová
DESCRIPTION:Martina Kociánová a Ivo Jahelka v jedinečné talk show s besedou a koncertem na téma "Právo včera a dnes."Nenechte si ujít komponovaný večer plný právnického humoru\, ale i povídání o tom\, co se aktuálně děje kolem nás. To vše v interakci s vámi.&nbsp\;
LOCATION:Lety
END:VEVENT
END:VCALENDAR