BEGIN:VCALENDAR
VERSION:2.0
CALSCALE:GREGORIAN
PRODID:-//MyApp//Calendar 1.0//EN
BEGIN:VEVENT
METHOD:PUBLISH
UID:46473@regionalniportaly.cz
DTSTAMP:20260420T195000Z
DTSTART;VALUE=DATE:20241121
DTEND;VALUE=DATE:20241122
SUMMARY:Kupředu do minulosti Lety u Dobřichovic - Strach\, Kociánová
DESCRIPTION:Martina Kociánová a Jiří Strach v jedinečné talk show&nbsp\;na téma "Co teď\, co potom a co na to Anděl Páně?"Nenechte si ujít komponovaný večer plný humoru\, historek z natáčení\, ale i seriózního povídání o tom\, co se aktuálně děje kolem nás. To vše v interakci s vámi\, tak přijďte\, tento večer neopakujeme.
LOCATION:Lety
END:VEVENT
END:VCALENDAR