BEGIN:VCALENDAR
VERSION:2.0
CALSCALE:GREGORIAN
PRODID:-//MyApp//Calendar 1.0//EN
BEGIN:VEVENT
METHOD:PUBLISH
UID:46537@regionalniportaly.cz
DTSTAMP:20260420T215423Z
DTSTART;VALUE=DATE:20241128
DTEND;VALUE=DATE:20241129
SUMMARY:ZuZu Kabaret & vernisáž fotografa Davida Korciny
DESCRIPTION:&nbsp\;Zažijte jedinečný večer se ZuZu kabaretem!&nbsp\;Připravili jsme pro vás nezapomenutelný program\, který kombinuje okouzlující a elegantní&nbsp\;burlesku\, ohromující taneční vystoupení\, akrobatickou show ve stylu&nbsp\;Cirque du Soleil&nbsp\;a komediální čísla inspirovaná kultovním muzikálem&nbsp\;Cabaret.Tento kouzelný večer se tentokrát propojí s vernisáží talentovaného fotografa&nbsp\;Davida Korciny\, která se koná od&nbsp\;18:00 do 19:30\, s oficiálním zahájením v&nbsp\;18:30. Program našeho ZuZu kabaretu odstartuje ve 20:00.Přijďte společně&nbsp\;s námi oslavit umění a krásu ženskosti. Během našeho programu vás rozhodně nenecháme chladnými!&nbsp\;Vystupující umělci jsou:Zpěv - Adel FoxShow Burleska&nbsp\; - Elektra Show&nbsp\; &nbsp\; &nbsp\; &nbsp\; &nbsp\; &nbsp\; &nbsp\; &nbsp\; &nbsp\; &nbsp\; &nbsp\; &nbsp\; &nbsp\; - Yasmine de Mortiferi&nbsp\; &nbsp\; &nbsp\; &nbsp\; &nbsp\; &nbsp\; &nbsp\; &nbsp\; &nbsp\; &nbsp\; &nbsp\; &nbsp\; &nbsp\; - Lila Mae (SK)Akrobatický tanec - David Spilka a Tereza ZmizeláVedlejší tanečnice - Wild Cherries&nbsp\;Večerem provází - Angelica G´LAmourA nezapoměli jsme ani na tombolu a soutěž o hodnotné ceny. Dress code je více než vítán!Nenechte si ujít tuto skvělou příležitost se pobavit\, uvolnit mysl a nechat se unášet na vlnách kabaretního umění.
LOCATION:Lety
END:VEVENT
END:VCALENDAR