BEGIN:VCALENDAR
VERSION:2.0
CALSCALE:GREGORIAN
PRODID:-//MyApp//Calendar 1.0//EN
BEGIN:VEVENT
METHOD:PUBLISH
UID:47076@regionalniportaly.cz
DTSTAMP:20260420T215319Z
DTSTART;VALUE=DATE:20241110
DTEND;VALUE=DATE:20241111
SUMMARY:Svátek světla
DESCRIPTION:Rozjímavá procházka krajinou se světelnými instalacemi letos na&nbsp\;téma spánku a&nbsp\;snů.Přijďte se s&nbsp\;námi zanořit do&nbsp\;nočního putování krajinou kolem Řivnáče. Od usnutí do&nbsp\;vzbuzení\, od večera do&nbsp\;rána\, stezka nočním světem spavců i&nbsp\;nespavců\, snílků i&nbsp\;nesnílků\, přes půlnoční zastavení či&nbsp\;probouzení nad ránem. Hloubkou snového zapomnění\, kolem těžkosti z&nbsp\;usínání po&nbsp\;lehkost hvězd a&nbsp\;třpytu noci. V&nbsp\;peřinách či&nbsp\;ve spacáku\, třeba se vám cestou bude něco pěkného zdát.&nbsp\;Připraveno ve spolupráci s&nbsp\;komunitní zahradou&nbsp\;Libóza.Čas: Vyberte si přesný čas vstupu na trasu\, který pak budete mít na Vaší&nbsp\;zakoupené vstupence. Na trasu se chodí v menších skupinách\, které mají mezi sebou pětiminutové rozestupy.Kdy: 10. listopadu 2024Místo konání stezky: okolí Řivnáče\, RoztokyKde se začíná: https://mapy.cz/s/bofukabejo&nbsp\;závora na konci ulice Za CihelnouParkování: zákazy parkování i vjezdu do ulic Za Cihelnou a U Háje\, prosím respektujte. Tyto ulice jsou úzké na jedno auto a parkovat se tam nedá. Parkování doporučujeme v Přemyslovské. Na obrázku níže je mapka trasy i parkování.Vstupné:&nbsp\;120&nbsp\;Kč platí pro děti od 6&nbsp\;let a dospělé. Děti do 6 let zdarma. Několik slotů je určeno&nbsp\;pro dospělé a děti od 15 let (je to vyznačeno na vstupence).Na místo přijďte&nbsp\;10 minut před časem na vstupence.Pozor\, cesta není sjízdná pro kočárky.
LOCATION:Roztoky
END:VEVENT
END:VCALENDAR