BEGIN:VCALENDAR
VERSION:2.0
CALSCALE:GREGORIAN
PRODID:-//MyApp//Calendar 1.0//EN
BEGIN:VEVENT
METHOD:PUBLISH
UID:47167@regionalniportaly.cz
DTSTAMP:20260420T195157Z
DTSTART;VALUE=DATE:20241116
DTEND;VALUE=DATE:20241117
SUMMARY:Odolen fest
DESCRIPTION:A máme tu opět multižánrový festival - country\, folk\, bluegrassových kapel a speciální překvapení \;).&nbsp\;Program:&nbsp\;Host: Marie Tilšarová- Choroši- Proradost- Pohodička- Spring souls- Rumtorádi- Grey smoke- Šolc boys band&nbsp\;
LOCATION:Odolena Voda
END:VEVENT
END:VCALENDAR