BEGIN:VCALENDAR
VERSION:2.0
CALSCALE:GREGORIAN
PRODID:-//MyApp//Calendar 1.0//EN
BEGIN:VEVENT
METHOD:PUBLISH
UID:47448@regionalniportaly.cz
DTSTAMP:20260420T212859Z
DTSTART;VALUE=DATE:20241110
DTEND;VALUE=DATE:20241111
SUMMARY:Ivan Hlas Trio
DESCRIPTION:Komorní sestava fungující už nějaký čas kolem písničkáře Ivana Hlase. V nádherných aranžmá\, zdobených virtuózní hrou na akustické nástroje nejlépe vyniknou Hlasovy písně\, založené na vyváženosti hudby a poezii textů. Hudebníci nejsou na naší scéně žádnými nováčky\, jejich radost z přímo předané muziky je pověstná. Kořeny ovlivňující hudbu tria jdou od hospodského blues\, městských balad\, rokenrolu\, až po melodické názvuky různých etnik. Je to hudba v dobrém slova smyslu lidová.V triu Ivana Hlase doprovázejí kytarista Norbi Kovács a violoncellista Jaroslav Olin Nejezchleba.
LOCATION:Beroun
END:VEVENT
END:VCALENDAR