BEGIN:VCALENDAR
VERSION:2.0
CALSCALE:GREGORIAN
PRODID:-//MyApp//Calendar 1.0//EN
BEGIN:VEVENT
METHOD:PUBLISH
UID:47450@regionalniportaly.cz
DTSTAMP:20260420T232027Z
DTSTART;VALUE=DATE:20241116
DTEND;VALUE=DATE:20241117
SUMMARY:Czech Pole Art 2024
DESCRIPTION:Czech Pole Art 2024 je třetí ročník soutěže navazující na předchozích 6 ročníků&nbsp\;Mistrovství ČR v Pole Art&nbsp\;organizovaných Českým svazem pole &amp\; arts sports (ČESPAS)\, se kterým jsme se na konci roku 2021 dohodli na převzetí organizace této soutěže.Soutěž je specifická svým uměleckým zaměřením\, volností ve výběru prvků i možností využít ke ztvárnění tématu rekvizity. Doplňuje tak portfolio pole dance soutěží v České republice.Naším cílem je vytvářet soutěžícím kvalitní soutěžní podmínky a neustále posouvat kvalitu pole dance.Kategorie:&nbsp\;Děti (6-9 let)\,&nbsp\;Junioři A Amatéři (10-13 let)\, Junioři A+B Profesionálové (10-17 let)\, Junioři B Amatéři (14-17 let)\, Junioři A+B&nbsp\;Elite (10-17&nbsp\;let)\,&nbsp\;Ženy Amatérky (18-39 let)\, Ženy Profesionálky (18-39 let)\, Ženy Elite (18-39 let)\, Ženy Masters (40+)\, Ženy Masters Elite (40+) Muži (16+)\, Doubles Junior (10-17 let)\, Doubles
LOCATION:Beroun
END:VEVENT
END:VCALENDAR