BEGIN:VCALENDAR
VERSION:2.0
CALSCALE:GREGORIAN
PRODID:-//MyApp//Calendar 1.0//EN
BEGIN:VEVENT
METHOD:PUBLISH
UID:47604@regionalniportaly.cz
DTSTAMP:20260420T214214Z
DTSTART;VALUE=DATE:20250118
DTEND;VALUE=DATE:20250119
SUMMARY:Šibřinky 2025
DESCRIPTION:Sokol Křivoklát vás srdečně zve na 3. ŠIBŘINKY!Zažijte kouzelný večer plný hudby\, tance\, zábavy a překvapení. Připravili jsme pro vás bohatý program – můžete se těšit na živou hudbu\, doprovodná vystoupení\, předtančení\, večerní překvapení\, občerstvení a oblíbenou tombolu!Hudební doprovod:&nbsp\;&nbsp\;O skvělou atmosféru se postará kapela Jan Fernet &amp\; spol\, slovem nás provede moderátor Honza Ladra.Otevíráme v 19:30Prosíme\, přijďte v historickém\, maškarním\, společenském kostýmu nebo kroji.Téma letošního večera: Klasické pohádky!Inspirujte se svými oblíbenými pohádkovými postavami a proměňte se na:- Popelku- Sněhurku- Červenou karkulku- Lesní víly a skřítky- Kouzelné bytosti- Čarodějnice a kouzelníky- Mistra lektvarů nebo kouzelnické učně\,...Na co se můžete těšit:Pohádkový večer v čarovném prostředí plný soutěží\, tanečních vystoupení a magických představení. Pro nejlepší kostýmy jsou připraveny speciální ceny!Těšíme se na vás v kostýmech vašich oblíbených pohádkových postav.Výtěžek z akce podpoří obnovu naší sokolovny.Těšíme se na pohádkovou ŠIBŘINKOVANOU!
LOCATION:Křivoklát
END:VEVENT
END:VCALENDAR