BEGIN:VCALENDAR
VERSION:2.0
CALSCALE:GREGORIAN
PRODID:-//MyApp//Calendar 1.0//EN
BEGIN:VEVENT
METHOD:PUBLISH
UID:47697@regionalniportaly.cz
DTSTAMP:20260420T195024Z
DTSTART;VALUE=DATE:20241203
DTEND;VALUE=DATE:20241204
SUMMARY:ANTIKVARTET Dušana Vančury – Vánoční koncert
DESCRIPTION:Skupina byla založena v roce 1962 ve složení Dušan Vančura\, Oldřich Ortinský\, Vlastimil Marhoul a Rudolf Vespalec souběžně s tehdy vznikajícím Spirituál kvintetem. Odsud název ANTIkvartet. Její činnost pozastavil přechod většiny členů do zmíněného Spirituál kvintetu v roce 1964.Antikvartet byl obnoven po padesáti letech nečinnosti v roce 2013. V současnosti tvoří Antikvartet Zuzana Vančurová\, Magdalena Jungwirthová\, Tomáš Vávra a Jiří Mašek.Společně natočili dvě alba: Všechno se jednou změní (2018) a Desatero setkání s Medvíďaty (2020).
LOCATION:Beroun
END:VEVENT
END:VCALENDAR