BEGIN:VCALENDAR
VERSION:2.0
CALSCALE:GREGORIAN
PRODID:-//MyApp//Calendar 1.0//EN
BEGIN:VEVENT
METHOD:PUBLISH
UID:47718@regionalniportaly.cz
DTSTAMP:20260420T215433Z
DTSTART;VALUE=DATE:20241214
DTEND;VALUE=DATE:20241215
SUMMARY:Robert Křesťan  & Druhá tráva - Vánoční koncert v Ořechu
DESCRIPTION:"Co skrýváš za víčky\, a plameny svíčky\, houf bílých holubic nebo jen žal..." Málokdo si někdy nezazpíval písničku Panenka\, která zdomácněla nejenom u táboráků a stala se nedílnou součástí mnoha zpěvníků.&nbsp\; Její autor Robert Křesťan se postupně stal opravdovou hudební legendou\, která například získala prestižní Ceny Anděl\, ale&nbsp\; v roce 2021 byl Křesťan navíc uveden do Síně slávy české populární hudby.&nbsp\;Robert Křesťan se skupinou Druhá tráva vystoupí na vánočním koncertě v sokolovně v&nbsp\; sobotu 14. prosince od 19 hodin.Vstupenky si můžete zakoupit na Obecním úřadě nebo v Květinářství během otvírací doby\, rezervace na tel. 737 055 600 (paní Jana Szöcsová). Také letos si můžete koupit i elektronické vstupenky na internetu -&nbsp\; na smsticket.cz. Stačí naskenovat QR kód na plakátu nebo akci najít přímo na stránkách smsticket.cz. Zde si vyberete místo v sokolovně a zaplatíte kartou nebo bankovním převodem.
LOCATION:Ořech
END:VEVENT
END:VCALENDAR