BEGIN:VCALENDAR
VERSION:2.0
CALSCALE:GREGORIAN
PRODID:-//MyApp//Calendar 1.0//EN
BEGIN:VEVENT
METHOD:PUBLISH
UID:47848@regionalniportaly.cz
DTSTAMP:20260420T212748Z
DTSTART;VALUE=DATE:20241213
DTEND;VALUE=DATE:20241214
SUMMARY:Flamengo Reunion Session v Davli
DESCRIPTION:V&nbsp\;roce 2022 uplynulo neuvěřitelných 50 let o vydání dnes již kultovní desky československé historie rocku Kuřete v&nbsp\;hodinkách. Za tímto jedinečným hudebním počinem stojí kapela Flamengo dnes Flamengo Reunion Session\, které se opírá o dvojici původních členů Flamenga\, Pavla Fořta (kytara) a Vladimíra „Gumu“ Kulhánka (baskytara). Doplňují je Jan Holeček (Hammond B3\, zpěv)\,&nbsp\;Jiří „Zelí“ Zelenka (bicí\, vokály) a Vladimír Boryš Secký (saxofon a flétna\, vokály).&nbsp\;Flamengo Reunion Session navazuje na období let 1970 - 1972\, kdy za mikrofonem zněl hlas Ivana Khunta a následně také Vladimíra Mišíka. Návštěvníci koncertů se tak mohou těšit\, že uslyší celé album Kuře v&nbsp\;hodinkách v&nbsp\;celé své kráse. Za všechny skladby z&nbsp\;desky jmenujme například kultovní Rám příštích obrazů\, Já a dým\, Doky vlaky\, hlad a boty\, nebo Stále dál. &nbsp\;V&nbsp\;prvním setu si kapela připomene období před „Kuřetem“ a tak se příznivci starého bigbítu mohou těšit na skladby jako Too Much Love is Bad Thing\, Každou chvíli či Týden v&nbsp\;elektrickém městě\, chybět nebudou ani kultovní covery\, které Flamengo v&nbsp\;daném období hrálo. Jde například o Evil Woman nebo Tabacco Road.Flamengo Reunion Session tak návštěvníkům vystoupení slibuje jedinečný\, autentický a hlavně originální zážitek legendárního FLAMENGA s&nbsp\;jeho původními členy a původním repertoárem.Za zmínku také stojí\, že v&nbsp\;letošní roce 2024 Vladimír Guma Kulhánek slaví své 80té narozeniny. Těšíme se\, že toto jubileum oslavíme společně s&nbsp\;Vámi\, s&nbsp\;Flamengem a Kuřetem v&nbsp\;hodinkách.
LOCATION:Davle
END:VEVENT
END:VCALENDAR