BEGIN:VCALENDAR
VERSION:2.0
CALSCALE:GREGORIAN
PRODID:-//MyApp//Calendar 1.0//EN
BEGIN:VEVENT
METHOD:PUBLISH
UID:47961@regionalniportaly.cz
DTSTAMP:20260420T195350Z
DTSTART;VALUE=DATE:20241212
DTEND;VALUE=DATE:20241213
SUMMARY:Adventní koncert - Kateřina Englichová a Martina Kociánová
DESCRIPTION:V Adventním čase&nbsp\;se ve čtvrtek 12. prosince&nbsp\;uskuteční výjimečný koncert\, na&nbsp\;kterém vystoupí mezzosopranistka Martina Kociánová a&nbsp\;harfistka&nbsp\;Kateřina Englichová. Tento hudební večer\, konaný v MMX pivotelu v Letech u Dobřichovic\, nabídne posluchačům jedinečné spojení nádherného hlasu a&nbsp\;mistrovské hry na&nbsp\;harfu.&nbsp\;&nbsp\;
LOCATION:Lety
END:VEVENT
END:VCALENDAR