BEGIN:VCALENDAR
VERSION:2.0
CALSCALE:GREGORIAN
PRODID:-//MyApp//Calendar 1.0//EN
BEGIN:VEVENT
METHOD:PUBLISH
UID:48060@regionalniportaly.cz
DTSTAMP:20260420T194934Z
DTSTART;VALUE=DATE:20241116
DTEND;VALUE=DATE:20241117
SUMMARY:Fernetman Tour - Fousatej hat\, Pirates of the Pubs
DESCRIPTION:Skupina STARTi vydává první desku a v rámci mini tour vás zve na parádní jízdu kde budou hosté jako Fousatej hat nebo Pirates of the Pubs!
LOCATION:Beroun
END:VEVENT
END:VCALENDAR