BEGIN:VCALENDAR
VERSION:2.0
CALSCALE:GREGORIAN
PRODID:-//MyApp//Calendar 1.0//EN
BEGIN:VEVENT
METHOD:PUBLISH
UID:48182@regionalniportaly.cz
DTSTAMP:20260420T194923Z
DTSTART;VALUE=DATE:20241207
DTEND;VALUE=DATE:20241208
SUMMARY:Pravá česká zabijačka
DESCRIPTION:BISTRO OKOŘ VÁS ZVEPŘIJĎTE ZAŽÍT PRAVOU ČESKOU ZABIJAČKU7.12.2024 od 8.00&nbsp\; do 16 hodinPravá česká zabijačka – Mistr řezník Pavel Helebrant se Zákolan + po celý den hraje kapela 4.CENOVÁVstupné 399\,-KčDěti do 12 let vstup ZDARMA- dětské hřištěV&nbsp\;ceně vstupného:Sladká snídaně - panáček slivovice - domácí koláče a štrúdl – po celý den zabijačkové dobroty – balíček dobrot na cestu -
LOCATION:Okoř
END:VEVENT
END:VCALENDAR