BEGIN:VCALENDAR
VERSION:2.0
CALSCALE:GREGORIAN
PRODID:-//MyApp//Calendar 1.0//EN
BEGIN:VEVENT
METHOD:PUBLISH
UID:48239@regionalniportaly.cz
DTSTAMP:20260420T182538Z
DTSTART;VALUE=DATE:20250411
DTEND;VALUE=DATE:20250412
SUMMARY:Pokáč - Vesnice Tour 2025
DESCRIPTION:Hrát ve velkejch měst v obřích halách umí každej\, ale kdy naposled dorazila Billie Eilish do kulturáku v Otvovicích? Nebojte\, já vemu do jedný ruky kytaru\, do druhý kočku a dorazim za váma.Po každým koncertě bude navíc autogramiáda a vesnická tancovačka s nefalšovaným diskžokejem\, tak doražte\, těšim se moc!
LOCATION:Otvovice
END:VEVENT
END:VCALENDAR