BEGIN:VCALENDAR
VERSION:2.0
CALSCALE:GREGORIAN
PRODID:-//MyApp//Calendar 1.0//EN
BEGIN:VEVENT
METHOD:PUBLISH
UID:48294@regionalniportaly.cz
DTSTAMP:20260420T195142Z
DTSTART;VALUE=DATE:20250218
DTEND;VALUE=DATE:20250219
SUMMARY:Luboš Pospíšil & MLO
DESCRIPTION:Od roku 2014\, kdy spolu poprvé vystoupili na jednom pódiu se Pavel Lipták s Martinem Kalendou objevují i po boku legendárního beatového barda Luboše Pospíšila. Luboš obvykle hraje se svou skupinou 5P\, ale občas má chuť zahrát také akusticky. V takových případech se obklopuje svými hudebními přáteli\, mezi nimiž je i duo Mrakoplaš Light Orchestra. Pavel s Martinem nastudovali část jeho repertoáru a 90 minutový pořad plný slavných Lubošových písní okořenili o několik vlastních písní.
LOCATION:Beroun
END:VEVENT
END:VCALENDAR