BEGIN:VCALENDAR
VERSION:2.0
CALSCALE:GREGORIAN
PRODID:-//MyApp//Calendar 1.0//EN
BEGIN:VEVENT
METHOD:PUBLISH
UID:49112@regionalniportaly.cz
DTSTAMP:20260420T231855Z
DTSTART;VALUE=DATE:20250201
DTEND;VALUE=DATE:20250202
SUMMARY:Skautský ples "Podmořský svět"
DESCRIPTION:Srdečně vás zveme na tradiční skautský ples&nbsp\;višňovského oddílu. Tentokrát na téma "Podmořský svět".Čeká nás noc plná zábavy a tance. Hrát bude kapela Robert Jíša Band a chybět nebude tradiční welcome drink\, fotokoutek\, půlnoční překvapení a další plesové radosti.Vstup ve společenském oděvu. Držet se tématu plesu (např. barvou šatů) je vítané\, ale nikoliv povinné :-)).Pro zájemce je doprava na ples i z plesu zajištěna svozovým autobusem. Podrobnosti o svozovém autobusu zveřejníme ve facebookové události.&nbsp\;
LOCATION:Svaté Pole
END:VEVENT
END:VCALENDAR