BEGIN:VCALENDAR
VERSION:2.0
CALSCALE:GREGORIAN
PRODID:-//MyApp//Calendar 1.0//EN
BEGIN:VEVENT
METHOD:PUBLISH
UID:49346@regionalniportaly.cz
DTSTAMP:20260420T231705Z
DTSTART;VALUE=DATE:20250124
DTEND;VALUE=DATE:20250125
SUMMARY:Já\, Diagnóza
DESCRIPTION:Lumíra Přichystalová hravou a&nbsp\;lehce komediální formou servíruje divákům své zkušenosti se závislostí na alkoholu a&nbsp\;následný proces odvykací léčby. Hru připravilo divadelní uskupení + — VeDvou pod vedením režiséra Jana Večeři.„Letím a&nbsp\;dopadám na prdel\, lehám si na záda\, držkou do bláta. Málokdo tenhle manévr umí““Monodrama” Lumíry Přichystalové v&nbsp\;osobní zpovědi\, o&nbsp\;nelehkém období\, kterým si prošla\, o&nbsp\;tom\, co mu předcházelo\, o&nbsp\;vzestupu\, pádu a&nbsp\;touze se zase zvednout. Ve hře líčí svůj vlastní život\, své vzpomínky\, své myšlenky\, úryvky ze svých deníků. A&nbsp\;není to pouze o&nbsp\;Přichystalové\, dějem se prolínají příběhy o&nbsp\;jejích kamarádkách z&nbsp\;dětství\, o&nbsp\;její matce či o&nbsp\;spolupacientech i&nbsp\;personálu “odmašťovny”\, v&nbsp\;níž Přichystalová sbírala síly na návrat. O&nbsp\;všech těchto osobách nejen hovoří\, ale též je ztvárňuje… A&nbsp\;je na to radost pohledět\, letmé náčrty — změna hlasu\, postoje\, gestikulace\, vše čisté\, jasné a&nbsp\;funkční.Výňatek z&nbsp\;i‑blogu Jiřího KoulyNa závěr jsme pro vás připravili jedno překvapení a&nbsp\;to v&nbsp\;podobě diskuze s&nbsp\;hlavní hrdinkou představení\, které bylo v&nbsp\;širší nominaci o&nbsp\;cenu Thálie 2024 — alternativní divadlo.Autor: Lumíra PřichystalováRežie: Jan VečeřaHudba: Anna OlejníkováHrají: Lumíra Přichystalová\, Anna Olejníková / Josef Ťupa
LOCATION:Davle
END:VEVENT
END:VCALENDAR