BEGIN:VCALENDAR
VERSION:2.0
CALSCALE:GREGORIAN
PRODID:-//MyApp//Calendar 1.0//EN
BEGIN:VEVENT
METHOD:PUBLISH
UID:49374@regionalniportaly.cz
DTSTAMP:20260420T232458Z
DTSTART;VALUE=DATE:20250201
DTEND;VALUE=DATE:20250202
SUMMARY:Retro Dance Párty
DESCRIPTION:V Přílepech už nás netřeba představovat. Pojďte na chvilku zapomenout na sychravou zimu a zatancujte si s námi! Další akce bude zase až před Vánoci 2025.80s - 90s RETRO DANCE PÁRTY je šestihodinový disco ples těch největších hitů osmdesátých a devadesátých let s přesahem na léta sedmdesátá až po současnost. Zkrátka od Abby\, přes Modern Talking až po Dua Lipu.Přijďte klidně v džínech\, ale nejlépe retro!Nejlepší retro kostýmy budou odměněny a hodnotné ceny! Čeká vás luxusní sound a nové lasery! My už se na vás těšíme!Doba je zlá\, tak tancujme\, dokud můžeme!Na místě budou k dispozici vstupenky v ceně 300 Kč bez garance sezení.
LOCATION:Velké Přílepy
END:VEVENT
END:VCALENDAR