BEGIN:VCALENDAR
VERSION:2.0
CALSCALE:GREGORIAN
PRODID:-//MyApp//Calendar 1.0//EN
BEGIN:VEVENT
METHOD:PUBLISH
UID:49460@regionalniportaly.cz
DTSTAMP:20260420T130820Z
DTSTART;VALUE=DATE:20250921
DTEND;VALUE=DATE:20250922
SUMMARY:The Beatles Revival + Karel Kahovec
DESCRIPTION:The Beatles Revival a karel Kahovec opět na Doksích v přírodním divadle!!!&nbsp\;JAKO SPECIÁLNÍ HOST VYSTOUPÍ BÝVALÝ BUBENÍK LEGENDÁRNÍ KAPELY KATAPULT A AUTOR HITU "HOŘELY PADALY HVĚZDY" - MICHAL ŠINDELÁŘNejvětší hity legendární skupiny BEATLES v nádherném prostředí areálu Přírodního divadla v Doksech u Kladna s mnoha krytými místy na sezení.&nbsp\;Legenda českého bigbítu Karel Kahovec se v novém exkluzivním a originálním koncertním projektu spojil s jednou z nejlepších světových revivalových kapel The Beatles Revival. Ve více jak tříhodinovém koncertu zazní nejdříve&nbsp\;blok největších pecek The Beatles Revival\, na ně naváže&nbsp\;blok hitů Karla Kahovce jako Paní v černém\, Poprava blond holky či Svou lásku jsem rozdal a dojde i na hudební vzpomínku na Petra Nováka\, s nímž Karel Kahovec K působil v kapele G&amp\;B\, takže zazpívá skladby jako Povídej\, Já budu chodit po špičkách\, Hvězdičko blýskavá nebo Náhrobní kámen\, to vše v doprovodu The Beatles Revival v originálních vokálních i nástrojových aranžích. Po přestávce vyplněné autogramiádou s Karla Kahovce bude následovat opět blok písní The Beatles Revival z pozdějšího období&nbsp\;- a po koronavirové karanténě je na repertoáru mnoho nových písní\, které jste ještě od Beatles revivalu neslyšeli.&nbsp\;3 velké párty stany pro diváky!&nbsp\;Krásný hudební nostalgický&nbsp\;návrat do zlaté éry rokenrolu!
LOCATION:Doksy
END:VEVENT
END:VCALENDAR