BEGIN:VCALENDAR
VERSION:2.0
CALSCALE:GREGORIAN
PRODID:-//MyApp//Calendar 1.0//EN
BEGIN:VEVENT
METHOD:PUBLISH
UID:49862@regionalniportaly.cz
DTSTAMP:20260420T180540Z
DTSTART;VALUE=DATE:20250321
DTEND;VALUE=DATE:20250322
SUMMARY:Vltava 2025 v Davli
DESCRIPTION:Vltava vznikla v&nbsp\;roce 1986. Jedna z&nbsp\;nejosobitějších domácích kapel je od té doby stálicí české klubové a&nbsp\;festivalové scény. Pestré skladby plné obrazů a&nbsp\;hudební lehkosti spolehlivě zasahují posluchače všech generací. V&nbsp\;jejím čele stojí herec\, zpěvák\, kytarista\, autor textů a&nbsp\;hudby Robert Nebřenský.
LOCATION:Davle
END:VEVENT
END:VCALENDAR