BEGIN:VCALENDAR
VERSION:2.0
CALSCALE:GREGORIAN
PRODID:-//MyApp//Calendar 1.0//EN
BEGIN:VEVENT
METHOD:PUBLISH
UID:50282@regionalniportaly.cz
DTSTAMP:20260420T232449Z
DTSTART;VALUE=DATE:20250204
DTEND;VALUE=DATE:20250205
SUMMARY:Pavlíkov - Případ Estonia - Jindřich Böhm
DESCRIPTION:Případ Estonia - kdo chce utopit pravdu?\n\nJe půlnoc\, 28. září 1994\, na severu Baltického moře se schyluje k největší poválečné námořní katastrofě. Silný vítr a vlny zadusí výkřiky obětí a chladné vody se stanou hrobem pro 852 nic netušících cestujících. Trajekt Estonia mizí uprostřed finského zálivu v hlubinách… Vyšetřování katastrofy trvalo tři roky a vyšetřovací komise dospěla k závěru\, že za potopení může špatná údržba lodi\, kvůli které praskly zámky držící příď a nákladovou rampu. Ale bylo to tak doopravdy? Experti po celém světě toto vysvětlení zpochybňují. Zmizeli svědci\, kteří katastrofu přežili a potápěči\, kteří se i přes zákaz švédské vlády k trajektu potopili do téměř sto metrové hloubky\, objevili šokující důkazy: Byl tu spáchán zločin?\nÚčastník mezinárodní potápěčské expedice Jindřich Böhm podává zprávu o tom\, co v hlubinách našli.
LOCATION:Pavlíkov
END:VEVENT
END:VCALENDAR