BEGIN:VCALENDAR
VERSION:2.0
CALSCALE:GREGORIAN
PRODID:-//MyApp//Calendar 1.0//EN
BEGIN:VEVENT
METHOD:PUBLISH
UID:50290@regionalniportaly.cz
DTSTAMP:20260420T183406Z
DTSTART;VALUE=DATE:20250215
DTEND;VALUE=DATE:20250216
SUMMARY:Roztocký masopust - večerní zábava v šapitó
DESCRIPTION:Tradičně netradiční a&nbsp\;netradičně tradiční!Roztocký Masopust se opět po&nbsp\;roce probouzí k&nbsp\;životu\, aby se&nbsp\;15.&nbsp\;února&nbsp\;vydal posvátně nestydatým procesím od Vltavy skrz roztockou krajinu a&nbsp\;skončil svou radostnou pouť na&nbsp\;večerní veselici v&nbsp\;šapitó&nbsp\;na louce u přívozu do Klecan\, zhruba 10 minut pěšky od nádraží Roztoky u Prahy.Kupte si lístky na závěr masopustního reje\, na večerní zábavu&nbsp\;vyhřívaném&nbsp\;šapitó.Program večerní zábavy v&nbsp\;šapitó&nbsp\;18.00&nbsp\;Otevření šapitó\, zahájení prodeje tomboly18.30–20.45 kapela Magnum jazz bigband&nbsp\; &nbsp\;21.00&nbsp\; Provdaná nevěsta – veselkové předtančení – masotanec21.30–23.30 Bachtale Apsa&nbsp\;23.30&nbsp\; Čepení a&nbsp\;pochování basy&nbsp\;a hojné masopustní jídlo a&nbsp\;pití!&nbsp\;
LOCATION:Roztoky
END:VEVENT
END:VCALENDAR