BEGIN:VCALENDAR
VERSION:2.0
CALSCALE:GREGORIAN
PRODID:-//MyApp//Calendar 1.0//EN
BEGIN:VEVENT
METHOD:PUBLISH
UID:50320@regionalniportaly.cz
DTSTAMP:20260420T200249Z
DTSTART;VALUE=DATE:20250218
DTEND;VALUE=DATE:20250219
SUMMARY:Pavlíkov  - São Tomé e Príncipe - Petr Hingar
DESCRIPTION:São Tomé e Príncipe: místo\, na které svět zapomněl\n\nSvatý Tomáš a Princův ostrov\, malá země na dvou ostrovech v Guinejském zálivu\, zůstávají jednou z nejméně známých destinací světa. A přesto tento skrytý tropický ráj nabízí úchvatnou přírodu – sopečné hory\, bujné deštné pralesy a opuštěné pláže lemované palmami. To vše jen pár hodin letu od Evropy.\n\nNa přednášce vás provedu tímto zapomenutým koutem Afriky\, kde se divoká příroda prolíná s fascinující koloniální historií. Společně objevíme opuštěné kakaové plantáže\, majestátní sopečné vrcholy i autentický život místních obyvatel\, kteří žijí doslova "uprostřed ničeho". Přijďte odhalit kouzlo místa\, které stále odolává tlaku masového turismu a uchovává si svou přirozenou krásu.
LOCATION:Pavlíkov
END:VEVENT
END:VCALENDAR