BEGIN:VCALENDAR
VERSION:2.0
CALSCALE:GREGORIAN
PRODID:-//MyApp//Calendar 1.0//EN
BEGIN:VEVENT
METHOD:PUBLISH
UID:50516@regionalniportaly.cz
DTSTAMP:20260420T212850Z
DTSTART;VALUE=DATE:20250312
DTEND;VALUE=DATE:20250313
SUMMARY:To jsme ještě neviděli\, Marie
DESCRIPTION:Divadelní revue z života nejednoho herceVstupte do světa\, kde se mísí realita s fikcí a humor s emocemi! Zažijete to\, co jste na divadelních prknech ještě neviděli!Smích zahřeje\, smích léčí – a vy se rozhodně budete smát!Hrají&nbsp\;Lukáš Langmajer | Libor Jeník | Lucia Jagerčíková
LOCATION:Beroun
END:VEVENT
END:VCALENDAR