BEGIN:VCALENDAR
VERSION:2.0
CALSCALE:GREGORIAN
PRODID:-//MyApp//Calendar 1.0//EN
BEGIN:VEVENT
METHOD:PUBLISH
UID:50517@regionalniportaly.cz
DTSTAMP:20260420T180530Z
DTSTART;VALUE=DATE:20250328
DTEND;VALUE=DATE:20250329
SUMMARY:Karel Plíhal
DESCRIPTION:Karel Plíhal&nbsp\;&nbsp\;&nbsp\;(na kytaru doprovází Petr Fiala)
LOCATION:Beroun
END:VEVENT
END:VCALENDAR