BEGIN:VCALENDAR
VERSION:2.0
CALSCALE:GREGORIAN
PRODID:-//MyApp//Calendar 1.0//EN
BEGIN:VEVENT
METHOD:PUBLISH
UID:50518@regionalniportaly.cz
DTSTAMP:20260420T180520Z
DTSTART;VALUE=DATE:20250408
DTEND;VALUE=DATE:20250409
SUMMARY:Trapeři s Robertem Křesťanem
DESCRIPTION:Legendární brněnská skupina ze sedmdesátých let minulého století\, první kapela uznávaného zpěváka\, skladatele a textaře Roberta Křesťana\, oslavila již 50. let od svého vzniku!K této příležitosti se muzikanti rozhodli natočit CD jak starých\, tak i úplně nových písní Traperů s názvem Když se stmívá\, které vyšlo v říjnu roku 2024.Kapela aktuálně vystupuje v sestavě Robert Křesťan (kytara\, zpěv)\, Pavel Petržela (mandolína\, zpěv)\, Luboš Malina (banjo\, kaval\, zpěv)\, Tomáš Buzek (foukací harmonika\, dobro\, zpěv) a Svaťka Štěpánková (kontrabas).Přijďte si poslechnout písničky\, jako jsou třeba Pojďme se napít\, Královna cest\, Balada o cínovejch vlnách\, Dostal jsem facku od silnice\, Jesse Younger nebo Pět prázdnejch sluncí.
LOCATION:Beroun
END:VEVENT
END:VCALENDAR