BEGIN:VCALENDAR
VERSION:2.0
CALSCALE:GREGORIAN
PRODID:-//MyApp//Calendar 1.0//EN
BEGIN:VEVENT
METHOD:PUBLISH
UID:50619@regionalniportaly.cz
DTSTAMP:20260420T212920Z
DTSTART;VALUE=DATE:20250329
DTEND;VALUE=DATE:20250330
SUMMARY:Zážitkovým motoráčkem do Bohemia Sektu
DESCRIPTION:Objevte tajemství výroby oblíbeného českého sektu a nahlédněte do procesu\, jakým vzniká „Bohemka“. Během prohlídky se dozvíte\, jaký je rozdíl mezi klasickou a charmatovou metodou\, a zjistíte\, jak se sekt vyráběl v minulosti a jak dnes probíhá setřásání kvasinek. Uvidíte také obří tank na cuvée\, který pojme více než milion lahví. Po návštěvě výrobních prostor se můžete těšit na skleničku sektu\, ochutnávku několika vzorků\, a jako specialitu nově odkalený sekt přímo z naší Manufaktury.\nNa závěr si nezapomeňte celý zážitek zachytit ve fotokoutku!\n\nZvláštní jízda zážitkového motoráčku z Kralup nad Vltavou přes Prahu a Beroun do Starého Plzence.\nNávštěva výrobního závodu Bohemia Sekt s výkladem a degustací.\nDegustace 5 druhů sektů s délkou cca 2 hodiny.\nNahlédněte do tajů výroby nejoblíbenějších českých bublinek.\nPohodlný odvoz po skončení zábavy a konzumace zpět.\n\nNávrh jízdního řádu:\nKralupy nad Vltavou 9:00 – Praha hl. n. 9:30 – Beroun 10:30 – Starý Plzenec 11:30\nStarý Plzenec 14:30 – Beroun 15:30 – Praha hl. n. 16:30 – Kralupy nad Vltavou 17:00
LOCATION:Beroun
END:VEVENT
END:VCALENDAR